BEGIN:VCALENDAR
VERSION:2.0
PRODID:-//hacksw/handcal//NONSGML v1.0//EN
BEGIN:VEVENT
DTSTART:20250513T150000Z
DTEND:20250513T153000Z
LOCATION:https://us02web.zoom.us/j/3810697601?omn=84988524480
ORGANIZER;CN=Jeanne Métraud - Animateurs de communauté:MAILTO:b00808121@essec.edu
SUMMARY:Participez au temps fort solidaire du reseau ESSEC : Together We Care by ESSEC Alumni ! #1
DESCRIPTION:Cher(e)s bénévoles, Together We Care, de quoi s'agit-il ? Une initiative pour encourager les communautés, clubs et chapters à initier et mener des actions de solidarité d’octobre à décembre...
URL:https://www.essecalumni.com/fr/group/animateurs-de-communaute/326/calendar/participez-au-temps-fort-solidaire-du-reseau-essec-together-we-care-by-essec-alumni-1/2025/05/13/7164
BEGIN:VALARM
TRIGGER:-P0DT1H0M0S
ACTION:DISPLAY
END:VALARM
END:VEVENT
END:VCALENDAR