BEGIN:VCALENDAR
VERSION:2.0
PRODID:-//hacksw/handcal//NONSGML v1.0//EN
BEGIN:VEVENT
DTSTART:20250414T103000Z
DTEND:20250414T140000Z
LOCATION:Casanova Osteria con Bar \n1樓, No. 12號, Alley 6, Lane 170, Section 4, Zhongxiao E Rd, Da’an District, Taipei City, Taïwan 10688
ORGANIZER;CN=Matthieu Colet - Taiwan:MAILTO:matthieu.colet@essec.edu
SUMMARY:Casual Dinner in Taipei
DESCRIPTION:Dear ESSEC Alumni,Please come and join us on Monday, April 14, 2025 for a casual dinner. It will be the occasion to review our past activities and get your input for future events.Cost: around 1100...
URL:https://www.essecalumni.com/fr/group/taiwan/271/calendar/casual-dinner-in-taipei/2025/04/14/7174
BEGIN:VALARM
TRIGGER:-P0DT1H0M0S
ACTION:DISPLAY
END:VALARM
END:VEVENT
END:VCALENDAR