BEGIN:VCALENDAR
VERSION:2.0
PRODID:-//hacksw/handcal//NONSGML v1.0//EN
BEGIN:VEVENT
DTSTART:20250520T170000Z
DTEND:20250520T200000Z
LOCATION:Maison des ESSEC  \n11, Avenue de Friedland \n75008 PARIS
ORGANIZER;CN=Patricia CHARLEC - Africa in France:MAILTO:patricia.charlec@essec.edu
SUMMARY:Tech &  Entrepreneuriat en  Afrique
DESCRIPTION:Le Club ESSEC Alumni Africa in France, et les Associations étudiantes Tech Bridge Africa et ESSEC Africa Society sont ravis de vous accueillir le mardi 20 mai 2025  entre 19h00  et 22h00 pour une...
URL:https://www.essecalumni.com/fr/group/africa-in-france/329/calendar/tech-entrepreneuriat-en-afrique/2025/05/20/7290
BEGIN:VALARM
TRIGGER:-P0DT1H0M0S
ACTION:DISPLAY
END:VALARM
END:VEVENT
END:VCALENDAR