BEGIN:VCALENDAR
VERSION:2.0
PRODID:-//hacksw/handcal//NONSGML v1.0//EN
BEGIN:VEVENT
DTSTART:20250704T180000Z
DTEND:20250704T230000Z
LOCATION:La Démesure sur Seine \n69, Port de la Rapée \n75012 PARIS
ORGANIZER;CN=Céline Lévêque - Promotion 1990:MAILTO:celine.leveque@essec.edu
SUMMARY:35 ans de la Promotion 1990
DESCRIPTION:Rendez-vous vendredi 4 juillet à 20H pour célébrer les 35 ans de la Promo ESSEC 90 à Paris sur une terrasse en bord de Seine :📍  A La Demesure sur Seine - 20H69 Port de la Rapée, 12ᵉ arrondissement*À ...
URL:https://www.essecalumni.com/fr/group/promotion-1990/231/calendar/35-ans-de-la-promotion-1990/2025/07/04/7359
BEGIN:VALARM
TRIGGER:-P0DT1H0M0S
ACTION:DISPLAY
END:VALARM
END:VEVENT
END:VCALENDAR