BEGIN:VCALENDAR
VERSION:2.0
PRODID:-//hacksw/handcal//NONSGML v1.0//EN
BEGIN:VEVENT
DTSTART:20250626T160000Z
DTEND:20250626T200000Z
LOCATION:Le Golf du Fort \nRoute du Fort \n67400 ILLKIRCH
ORGANIZER;CN=Céline Lévêque - Alsace:MAILTO:celine.leveque@essec.edu
SUMMARY:Initiation au Golf ou mini-tournoi suivi d'un atelier Burger⛳
DESCRIPTION:Cher(es) Alumni ESSEC, ESCP Alumni, HEC et SciencesPo Paris \nLe Club ESSEC Alumni Alsace en partenariat avec les Clubs Grand-Est HEC,  ESCP Alumni,  et SciencesPo Paris a le plaisir de vous convier à...
URL:https://www.essecalumni.com/fr/group/alsace/68/calendar/initiation-au-golf-ou-mini-tournoi-suivi-d-un-atelier-burger/2025/06/26/7434
BEGIN:VALARM
TRIGGER:-P0DT1H0M0S
ACTION:DISPLAY
END:VALARM
END:VEVENT
END:VCALENDAR