BEGIN:VCALENDAR
VERSION:2.0
PRODID:-//hacksw/handcal//NONSGML v1.0//EN
BEGIN:VEVENT
DTSTART:20260602T103000Z
DTEND:20260603T120000Z
LOCATION:
ORGANIZER;CN=ESSEC Alumni:MAILTO:alumni-contact@essec.edu
SUMMARY:Webinar ENG: Clarify your strengths and your direction
DESCRIPTION:Clarify your strengths and your directionClarify your strengths and your directionDo you have doubts about your professional choices? Are those doubts fed by the challenge to mobilize some\nkey people...
URL:https://www.essecalumni.com/fr/event/webinar-eng-clarify-your-strengths-and-your-direction/2026/06/02/7451
BEGIN:VALARM
TRIGGER:-P0DT1H0M0S
ACTION:DISPLAY
END:VALARM
END:VEVENT
END:VCALENDAR