BEGIN:VCALENDAR
VERSION:2.0
PRODID:-//hacksw/handcal//NONSGML v1.0//EN
BEGIN:VEVENT
DTSTART:20250624T063000Z
DTEND:20250624T080000Z
LOCATION:Maison des ESSEC \n11, Avenue de Friedland \n75008 PARIS
ORGANIZER;CN=Mathilde Failler - Droit:MAILTO:mathilde.failler@essec.edu
SUMMARY:Les assemblées générales de sociétés cotées dans un monde fracturé
DESCRIPTION:Le Club ESSEC Alumni Droit organise un événement de haut niveau sur le thème de "Les assemblées générales de sociétés cotées dans un monde fracturé : regards croisés des dirigeants exécutifs, non...
URL:https://www.essecalumni.com/fr/group/droit/54/calendar/les-assemblees-generales-de-societes-cotees-dans-un-monde-fracture/2025/06/24/7466
BEGIN:VALARM
TRIGGER:-P0DT1H0M0S
ACTION:DISPLAY
END:VALARM
END:VEVENT
END:VCALENDAR