BEGIN:VCALENDAR
VERSION:2.0
PRODID:-//hacksw/handcal//NONSGML v1.0//EN
BEGIN:VEVENT
DTSTART:20250701T170000Z
DTEND:20250701T203000Z
LOCATION:Louie \n13-15, West Street \nWC2H 9NE LONDON
ORGANIZER;CN=Anita Maksymchuk - the United Kingdom / Royaume Uni:MAILTO:anita.maksymchuk@essec.edu
SUMMARY:Summer Breeze: Inter-School Finance Alumni Afterwork (ESSEC UK Finance Club)
DESCRIPTION:Join us at Louie London on Tuesday 1st July for an exclusive Summer gathering and networking of the Financial Services communities in London. \nHosted by ESSEC Alumni UK Finance once again in the...
URL:https://www.essecalumni.com/fr/group/the-united-kingdom-royaume-uni/144/calendar/summer-breeze-inter-school-finance-alumni-afterwork-essec-uk-finance-club/2025/07/01/7512
BEGIN:VALARM
TRIGGER:-P0DT1H0M0S
ACTION:DISPLAY
END:VALARM
END:VEVENT
END:VCALENDAR