BEGIN:VCALENDAR
VERSION:2.0
PRODID:-//hacksw/handcal//NONSGML v1.0//EN
BEGIN:VEVENT
DTSTART:20251115T093000Z
DTEND:20251116T010000Z
LOCATION:Cergy Campus  la journée - Soirée à Paris
ORGANIZER;CN=Céline Lévêque - Global BBA:MAILTO:celine.leveque@essec.edu
SUMMARY::tada:50 ans du Global BBA  (ex EPSCI)
DESCRIPTION:⚠️Inscriptions closes, aucune  place ne pourra être achetée sur place ! \nLe programme ESSEC Global BBA (ex EPSCI) fête ses 50 ans !Un demi-siècle de trajectoires inspirantes, de souvenirs marquants...
URL:https://www.essecalumni.com/fr/group/global-bba/175/calendar/-tada-50-ans-du-global-bba-ex-epsci/2025/11/15/7518
BEGIN:VALARM
TRIGGER:-P0DT1H0M0S
ACTION:DISPLAY
END:VALARM
END:VEVENT
END:VCALENDAR