BEGIN:VCALENDAR
VERSION:2.0
PRODID:-//hacksw/handcal//NONSGML v1.0//EN
BEGIN:VEVENT
DTSTART:20250910T170000Z
DTEND:20250910T203000Z
LOCATION:Guinguette Chez Alriq \nQuai des Queyries \n33100 BORDEAUX
ORGANIZER;CN=Jeanne Métraud - Aquitaine:MAILTO:b00808121@essec.edu
SUMMARY:Happy Alumni Hour à Bordeaux
DESCRIPTION:Bonjour à toutes et à tous,Nous vous proposons de nous retrouver à la rentrée, le 10 septembre, pour un APERESSEC à la Guinguette Chez Alriq.  Adresse : Zone d’Activités Quai des Queyries, Parc aux...
URL:https://www.essecalumni.com/fr/group/aquitaine/69/calendar/happy-alumni-hour-a-bordeaux/2025/09/10/7630
BEGIN:VALARM
TRIGGER:-P0DT1H0M0S
ACTION:DISPLAY
END:VALARM
END:VEVENT
END:VCALENDAR