BEGIN:VCALENDAR
VERSION:2.0
PRODID:-//hacksw/handcal//NONSGML v1.0//EN
BEGIN:VEVENT
DTSTART:20250917T160000Z
DTEND:20250917T200000Z
LOCATION:People Bar \n7, Rue de la Krutenau \n67000 STRASBOURG
ORGANIZER;CN=Céline Lévêque - Alsace:MAILTO:celine.leveque@essec.edu
SUMMARY:Plongez dans l’IA et imaginez votre futur assistant personnel
DESCRIPTION:Cher(es) Alumni ESSEC,Au nom du CGEA – Club des Grandes Écoles d’Alsace - le Club ESSEC Alumni Alsace a le plaisir de vous convier à une conférence exclusive sur l’IA suivie par un Afterwork au centre...
URL:https://www.essecalumni.com/fr/group/alsace/68/calendar/plongez-dans-l-ia-et-imaginez-votre-futur-assistant-personnel/2025/09/17/7638
BEGIN:VALARM
TRIGGER:-P0DT1H0M0S
ACTION:DISPLAY
END:VALARM
END:VEVENT
END:VCALENDAR