BEGIN:VCALENDAR
VERSION:2.0
PRODID:-//hacksw/handcal//NONSGML v1.0//EN
BEGIN:VEVENT
DTSTART:20251008T150000Z
DTEND:20251008T200000Z
LOCATION:Maison des ESSEC \n11, Avenue de Friedland \n75008 PARIS
ORGANIZER;CN=Claire Hallier:MAILTO:claire.hallier@essec.edu
SUMMARY:Lifelong Learning : la (vraie) compétence du futur
DESCRIPTION:En partenariat avec l'ESSEC Executive Education Lifelong Learning : la (vraie) compétence du futur\nMercredi 8 octobre à la Maison des ESSEC\nLe monde change à une vitesse sans précédent. Intelligence...
URL:https://www.essecalumni.com/fr/event/lifelong-learning-la-vraie-competence-du-futur/2025/10/08/7669
BEGIN:VALARM
TRIGGER:-P0DT1H0M0S
ACTION:DISPLAY
END:VALARM
END:VEVENT
END:VCALENDAR