BEGIN:VCALENDAR
VERSION:2.0
PRODID:-//hacksw/handcal//NONSGML v1.0//EN
BEGIN:VEVENT
DTSTART:20250925T110000Z
DTEND:20250925T140000Z
LOCATION:Pigalle \nNo. 17, An Ho Rd. Sec. 2, Taipei \n106 Taipei
ORGANIZER;CN=Florence Zheng - Taiwan:MAILTO:florence.zheng@essec.edu
SUMMARY:Casual Alumni Dinner in Taipei
DESCRIPTION:\nDear ESSEC Alumni,\nPlease come and join us on Thursday, September 25, 2025 for a casual dinner in a nice, relaxed environment.\n📆DATE: THURSDAY SEPTEMBER 25th, 2025\n⌚Time: 19h00 to 22h00\nVenue:...
URL:https://www.essecalumni.com/fr/group/taiwan/271/calendar/casual-alumni-dinner-in-taipei/2025/09/25/7682
BEGIN:VALARM
TRIGGER:-P0DT1H0M0S
ACTION:DISPLAY
END:VALARM
END:VEVENT
END:VCALENDAR