BEGIN:VCALENDAR
VERSION:2.0
PRODID:-//hacksw/handcal//NONSGML v1.0//EN
BEGIN:VEVENT
DTSTART:20251105T173000Z
DTEND:20251105T200000Z
LOCATION:Maison des ESSEC  \n11, Avenue de Friedland \n75008 PARIS
ORGANIZER;CN=Anita Maksymchuk - Africa in France:MAILTO:anita.maksymchuk@essec.edu
SUMMARY:(ANNULE) Intelligence économique et informationnelle Europe-Afrique : nouvelles dynamiques partenariales
DESCRIPTION:Table ronde – Club Africa in France\nIntelligence économique et informationnelle Europe-Afrique : nouvelles dynamiques partenariales\nFocus sur les collaborations bilatérales avec la France, porteuses...
URL:https://www.essecalumni.com/fr/group/africa-in-france/329/calendar/-annule-intelligence-economique-et-informationnelle-europe-afrique-nouvelles-dynamiques-partenariales/2025/11/05/7855
BEGIN:VALARM
TRIGGER:-P0DT1H0M0S
ACTION:DISPLAY
END:VALARM
END:VEVENT
END:VCALENDAR