BEGIN:VCALENDAR
VERSION:2.0
PRODID:-//hacksw/handcal//NONSGML v1.0//EN
BEGIN:VEVENT
DTSTART:20251125T110000Z
DTEND:20251125T140000Z
LOCATION:Joiny \n2F, No. 73, Da An Rd. sec. 1, Da An district, Taipei 106
ORGANIZER;CN=Florence Zheng - Taiwan:MAILTO:florence.zheng@essec.edu
SUMMARY:ESSEC Alumni dinner in Taiwan
DESCRIPTION:Dear ESSEC Alumni,We are pleased to invite you to join out next ESSEC Alumni dinner on Tuesday, November 25, 2025.It will be an occasion for everyone to meet again before the end of the year in a...
URL:https://www.essecalumni.com/fr/group/taiwan/271/calendar/-essec-alumni-dinner-in-taiwan/2025/11/25/7959
BEGIN:VALARM
TRIGGER:-P0DT1H0M0S
ACTION:DISPLAY
END:VALARM
END:VEVENT
END:VCALENDAR