BEGIN:VCALENDAR
VERSION:2.0
PRODID:-//hacksw/handcal//NONSGML v1.0//EN
BEGIN:VEVENT
DTSTART:20260113T180000Z
DTEND:20260113T210000Z
LOCATION:Bibliothèque La Grange-Fleuret \n11 bis, Rue de Vézelay \n75008 PARIS
ORGANIZER;CN=Jeanne Métraud - Promotion 1982:MAILTO:b00808121@essec.edu
SUMMARY:Pot semestriel de la Promotion E82
DESCRIPTION:Bonjour à tous, Notre premier pot de l'année 2026  aura lieu mardi 13 janvier, dans les magnifiques locaux de la Bibliothèque La Grange-Fleuret que certains d'entre vous connaissent déjà, 11 bis rue...
URL:https://www.essecalumni.com/fr/group/promotion-1982/223/calendar/pot-semestriel-de-la-promotion-e82/2026/01/13/7999
BEGIN:VALARM
TRIGGER:-P0DT1H0M0S
ACTION:DISPLAY
END:VALARM
END:VEVENT
END:VCALENDAR