BEGIN:VCALENDAR
VERSION:2.0
PRODID:-//hacksw/handcal//NONSGML v1.0//EN
BEGIN:VEVENT
DTSTART:20260129T180000Z
DTEND:20260129T210000Z
LOCATION:Monsieur Le Zinc - Pigalle \n46, Rue Jean-Baptiste Pigalle \n75009 PARIS
ORGANIZER;CN=Jeanne Métraud - ESSEC Women Alumni:MAILTO:b00808121@essec.edu
SUMMARY:Afterwork Mentees EWA Boost’
DESCRIPTION:Événement réservé aux Mentees EWA Boost’  2025-2026Chères Mentees,Notre premier afterwork EWA Boost' de l’année 2026 aura lieu jeudi 29 janvier à Monsieur Le Zinc -  Pigalle, dans le 9ème.À cette...
URL:https://www.essecalumni.com/fr/group/essec-women-alumni/59/calendar/afterwork-mentees-ewa-boost/2026/01/29/8121
BEGIN:VALARM
TRIGGER:-P0DT1H0M0S
ACTION:DISPLAY
END:VALARM
END:VEVENT
END:VCALENDAR