BEGIN:VCALENDAR
VERSION:2.0
PRODID:-//hacksw/handcal//NONSGML v1.0//EN
BEGIN:VEVENT
DTSTART:20260506T160000Z
DTEND:20260506T180000Z
LOCATION:
ORGANIZER;CN=Jeanne Métraud:MAILTO:b00808121@essec.edu
SUMMARY:Réunion bimensuelle - ESSEC Business Angels
DESCRIPTION:ESSEC Business Angels en partenariat avec Paris Business Angels a le plaisir de vous convier à leur :\nRéunion bimensuelleMercredi 06 maide 18h00 à 20h00En ligne \nVous pourrez y entendre les Elevator...
URL:https://www.essecalumni.com/fr/event/reunion-bimensuelle-essec-business-angels/2026/05/06/8144
BEGIN:VALARM
TRIGGER:-P0DT1H0M0S
ACTION:DISPLAY
END:VALARM
END:VEVENT
END:VCALENDAR