BEGIN:VCALENDAR
VERSION:2.0
PRODID:-//hacksw/handcal//NONSGML v1.0//EN
BEGIN:VEVENT
DTSTART:20260129T080000Z
DTEND:20260129T093000Z
LOCATION:
ORGANIZER;CN=Anita Maksymchuk:MAILTO:anita.maksymchuk@essec.edu
SUMMARY:IRENE - Monde trumpien, monde mélien : un monde sans l’Europe ?
DESCRIPTION:L’intervention américaine au Venezuela, les vues de Washington sur le Groenland et sur Cuba, semblent refermer définitivement la parenthèse historique de l’ordre international fondé sur le droit...
URL:https://www.essecalumni.com/fr/event/irene-monde-trumpien-monde-melien-un-monde-sans-l-europe/2026/01/29/8188
BEGIN:VALARM
TRIGGER:-P0DT1H0M0S
ACTION:DISPLAY
END:VALARM
END:VEVENT
END:VCALENDAR