BEGIN:VCALENDAR
VERSION:2.0
PRODID:-//hacksw/handcal//NONSGML v1.0//EN
BEGIN:VEVENT
DTSTART:20260612T170000Z
DTEND:20260613T010000Z
LOCATION:Plantation Paris \n37, Rue des Cheminots \n75018 PARIS
ORGANIZER;CN=Mathilde Failler:MAILTO:mathilde.failler@essec.edu
SUMMARY:Soirée Inter-promos ESSEC ~ Promos 2002 à 2007
DESCRIPTION:Cher diplômés,Après une première édition mémorable, la communauté des promos 2002 à 2007 se retrouve pour une nouvelle soirée placée sous le signe des retrouvailles, des souvenirs… et de la fête. Pour...
URL:https://www.essecalumni.com/fr/event/soiree-inter-promos-essec-promos-2002-a-2007/2026/06/12/8281
BEGIN:VALARM
TRIGGER:-P0DT1H0M0S
ACTION:DISPLAY
END:VALARM
END:VEVENT
END:VCALENDAR