BEGIN:VCALENDAR
VERSION:2.0
PRODID:-//hacksw/handcal//NONSGML v1.0//EN
BEGIN:VEVENT
DTSTART:20260514T110000Z
DTEND:20260517T140000Z
LOCATION:Golfs de Biarritz Le Phare - Basozabal et Arcangues
ORGANIZER;CN=Philippe BESANCON - Golf:MAILTO:phibesancon@gmail.com
SUMMARY:GOLF - week end basque 2026
DESCRIPTION:5ᵉ WEEK-END BASQUEDu 14 au 17 mai 2026BIARRITZ LE PHARE - REAL NUEVO CLUB SAN SEBASTIAN BASOZABAL - ARCANGUES\nScoop, pour l'édition 2026, nous avons préparé un programa muy excepcional - qui se dit...
URL:https://www.essecalumni.com/fr/group/golf/40/calendar/golf-week-end-basque-2026/2026/05/14/8317
BEGIN:VALARM
TRIGGER:-P0DT1H0M0S
ACTION:DISPLAY
END:VALARM
END:VEVENT
END:VCALENDAR