BEGIN:VCALENDAR
VERSION:2.0
PRODID:-//hacksw/handcal//NONSGML v1.0//EN
BEGIN:VEVENT
DTSTART:20260602T163000Z
DTEND:20260602T200000Z
LOCATION:Maison des ESSEC \n11, Avenue de Friedland \n75008 PARIS
ORGANIZER;CN=Mathilde Failler - Digital & Technology:MAILTO:mathilde.failler@essec.edu
SUMMARY:From Content to Knowledge: How AI-Powered Knowledge Maps Are Transforming Digital Learning
DESCRIPTION:Dear members,The ESSEC Alumni Digital & Technology Club invites you on Tuesday, June 2nd to its next conference at the Maison des ESSEC on the theme:From Content to Knowledge: How AI-Powered Knowledge...
URL:https://www.essecalumni.com/fr/group/digital-technology/50/calendar/from-content-to-knowledge-how-ai-powered-knowledge-maps-are-transforming-digital-learning/2026/06/02/8333
BEGIN:VALARM
TRIGGER:-P0DT1H0M0S
ACTION:DISPLAY
END:VALARM
END:VEVENT
END:VCALENDAR