BEGIN:VCALENDAR
VERSION:2.0
PRODID:-//hacksw/handcal//NONSGML v1.0//EN
BEGIN:VEVENT
DTSTART:20260326T063000Z
DTEND:20260326T103000Z
LOCATION:Sydney / Melbourne / Adelaide
ORGANIZER;CN=Florence Zheng - Australia / Australie - New Zealand / Nouvelle Zélande:MAILTO:florence.zheng@essec.edu
SUMMARY:ESSEC Alumni Australia – Simultaneous Get Together in 3 Cities: Sydney I Melbourne I Adelaide
DESCRIPTION:Dear Alumni,On the same evening, across three cities, our ESSEC Alumni community in Australia will gather for a special simultaneous Get Together in Sydney, Melbourne, and Adelaide.No matter where you...
URL:https://www.essecalumni.com/fr/group/australia-australie-new-zealand-nouvelle-zelande/138/calendar/essec-alumni-australia-simultaneous-get-together-in-3-cities-sydney-i-melbourne-i-adelaide/2026/03/26/8340
BEGIN:VALARM
TRIGGER:-P0DT1H0M0S
ACTION:DISPLAY
END:VALARM
END:VEVENT
END:VCALENDAR