BEGIN:VCALENDAR
VERSION:2.0
PRODID:-//hacksw/handcal//NONSGML v1.0//EN
BEGIN:VEVENT
DTSTART:20260520T220000Z
DTEND:20260521T020000Z
LOCATION:The Crosby Street Hotel \n79, Crosby Street \n10012 NEW YORK
ORGANIZER;CN=Maria DRISSI HABTI - The USA / Etats-Unis d'Amérique - Whole Country:MAILTO:maria.drissihabti@essec.edu
SUMMARY:Fifth Annual Gala Benefit and Visionary Awards
DESCRIPTION:Agenda for the evening subject to small modifications.OVERVIEWDear ESSEC Alumni,We are pleased to invite you to the 5th Annual ESSEC Alumni USA Gala Benefit, held in partnership with the ESSEC...
URL:https://www.essecalumni.com/fr/group/the-usa-etats-unis-d-amerique-whole-country/167/calendar/fifth-annual-gala-benefit-and-visionary-awards/2026/05/21/8351
BEGIN:VALARM
TRIGGER:-P0DT1H0M0S
ACTION:DISPLAY
END:VALARM
END:VEVENT
END:VCALENDAR