BEGIN:VCALENDAR
VERSION:2.0
PRODID:-//hacksw/handcal//NONSGML v1.0//EN
BEGIN:VEVENT
DTSTART:20260321T091500Z
DTEND:20260321T111500Z
LOCATION:Hôtel de Saint-Aignan \n71, Rue du Temple \n75004 PARIS
ORGANIZER;CN=Mathilde Failler - Beaux-Arts:MAILTO:mathilde.failler@essec.edu
SUMMARY:[COMPLET] Visite Musée d’art et d’histoire du judaïsme
DESCRIPTION:Chers membres du Club ESSEC Alumni Beaux-Arts,\nVous êtes conviés à la visite guidée du Musée d’art et d’histoire du judaïsme présentée par une conférencière du musée :📅 Samedi 21 mars \n🕦 À 10h15...
URL:https://www.essecalumni.com/fr/group/beaux-arts/32/calendar/-complet-visite-musee-d-art-et-d-histoire-du-judaisme/2026/03/21/8355
BEGIN:VALARM
TRIGGER:-P0DT1H0M0S
ACTION:DISPLAY
END:VALARM
END:VEVENT
END:VCALENDAR