BEGIN:VCALENDAR
VERSION:2.0
PRODID:-//hacksw/handcal//NONSGML v1.0//EN
BEGIN:VEVENT
DTSTART:20260506T170000Z
DTEND:20260506T200000Z
LOCATION:Piccolo Teatro Grassi \n2, Via Rovello \n20121 MILANO
ORGANIZER;CN=Florence Zheng - Italy / Italie:MAILTO:florence.zheng@essec.edu
SUMMARY:Exclusive Networking event with Marie-Pierre SCHICKEL,  Managing Director of ESSEC Alumni
DESCRIPTION:Dear alumni,Join us for a dynamic networking evening at the heart of your community. We will have the pleasure of welcoming Marie-Pierre SCHICKEL (E95), Managing Director of ESSEC Alumni, who will...
URL:https://www.essecalumni.com/fr/group/italy-italie/158/calendar/exclusive-networking-event-with-marie-pierre-schickel-managing-director-of-essec-alumni/2026/05/06/8356
BEGIN:VALARM
TRIGGER:-P0DT1H0M0S
ACTION:DISPLAY
END:VALARM
END:VEVENT
END:VCALENDAR