BEGIN:VCALENDAR
VERSION:2.0
PRODID:-//hacksw/handcal//NONSGML v1.0//EN
BEGIN:VEVENT
DTSTART:20260326T183000Z
DTEND:20260326T213000Z
LOCATION:Adresse à venir \n75006 PARIS
ORGANIZER;CN=Jeanne Métraud - ESSEC Women Alumni:MAILTO:b00808121@essec.edu
SUMMARY:Dîner des Mentors EWA Boost'
DESCRIPTION:Événement réservé aux Mentors EWA Boost' 2025-2026Cher(e)s mentors EWA Boost', Notre prochain et dernier dîner des mentors de l'année aura lieu le jeudi  26 mars à 19h30.Nous aurons le plaisir d'être ...
URL:https://www.essecalumni.com/fr/group/essec-women-alumni/59/calendar/diner-des-mentors-ewa-boost/2026/03/26/8392
BEGIN:VALARM
TRIGGER:-P0DT1H0M0S
ACTION:DISPLAY
END:VALARM
END:VEVENT
END:VCALENDAR