BEGIN:VCALENDAR
VERSION:2.0
PRODID:-//hacksw/handcal//NONSGML v1.0//EN
BEGIN:VEVENT
DTSTART:20260415T090000Z
DTEND:20260415T123000Z
LOCATION:The Plaza Hotel \n119 Sogong-ro, Jung District, Seoul, South Korea \n04525
ORGANIZER;CN=Florence Zheng - South Korea / Corée du Sud:MAILTO:florence.zheng@essec.edu
SUMMARY:Masterclass: Leadership in the Age of AI
DESCRIPTION:Dear Alumni,We are delighted to invite you to an exclusive evening combining a masterclass, discussion, and networking around a highly relevant topic:“Leading in the Age of AI: Decision-Making,...
URL:https://www.essecalumni.com/fr/group/south-korea-coree-du-sud/141/calendar/masterclass-leadership-in-the-age-of-ai/2026/04/15/8395
BEGIN:VALARM
TRIGGER:-P0DT1H0M0S
ACTION:DISPLAY
END:VALARM
END:VEVENT
END:VCALENDAR