BEGIN:VCALENDAR
VERSION:2.0
PRODID:-//hacksw/handcal//NONSGML v1.0//EN
BEGIN:VEVENT
DTSTART:20260326T110000Z
DTEND:20260326T140000Z
LOCATION:Wooloomooloo restaurant \n379, 信義路四段 \n110
ORGANIZER;CN=Florence Zheng - Taiwan:MAILTO:florence.zheng@essec.edu
SUMMARY:ESSEC Alumni Dinner in Taipei
DESCRIPTION:SAVE THE DATETHURSDAY MARCH 26, 2026, 19h00 to 22h00Venue: Wooloomooloo restaurant, No.379 Xin Yi Rd. Sec. 4, Taipei 110 臺北市信義區信義路四段379號Tel:  +886-2-8789 0128\nDear ESSEC Alumni,We are pleased to...
URL:https://www.essecalumni.com/fr/group/taiwan/271/calendar/essec-alumni-dinner-in-taipei/2026/03/26/8431
BEGIN:VALARM
TRIGGER:-P0DT1H0M0S
ACTION:DISPLAY
END:VALARM
END:VEVENT
END:VCALENDAR