BEGIN:VCALENDAR
VERSION:2.0
PRODID:-//hacksw/handcal//NONSGML v1.0//EN
BEGIN:VEVENT
DTSTART:20260417T063000Z
DTEND:20260417T080000Z
LOCATION:Maison des ESSEC \n11 avenue de friedland \n75008 Paris
ORGANIZER;CN=Céline Lévêque:MAILTO:celine.leveque@essec.edu
SUMMARY:[REPORTE] Sport de haut niveau et monde de l'entreprise : quels défis pour la santé mentale ?
DESCRIPTION:Cet événement est reporté à une date ultérieure ! La santé mentale est aujourd’hui un enjeu majeur, à la fois dans le monde du sport de haut niveau et dans celui de l’entreprise. Pression de la...
URL:https://www.essecalumni.com/fr/event/-reporte-sport-de-haut-niveau-et-monde-de-l-entreprise-quels-defis-pour-la-sante-mentale/2026/04/17/8437
BEGIN:VALARM
TRIGGER:-P0DT1H0M0S
ACTION:DISPLAY
END:VALARM
END:VEVENT
END:VCALENDAR