BEGIN:VCALENDAR
VERSION:2.0
PRODID:-//hacksw/handcal//NONSGML v1.0//EN
BEGIN:VEVENT
DTSTART:20260507T060000Z
DTEND:20260507T080000Z
LOCATION:SOMEFLU PARIS \n13, Rue du Poteau \n77181 COURTRY
ORGANIZER;CN=Victoria Sasson - Industrie:MAILTO:victoria.sasson@essec.edu
SUMMARY:Visite de l'usine  Someflu - Un cas concret d'industrie souveraine, circulaire et innovante
DESCRIPTION:Chers membres,Le Club ESSEC Alumni Industrie vous propose une visite exclusive du site industriel SOMEFLU à Courtry (77) le jeudi 7 mai 2026 à partir de 8h.Au programme :8h00 : Café d'accueil*8h30 :...
URL:https://www.essecalumni.com/fr/group/industrie/394/calendar/visite-de-l-usine-someflu-un-cas-concret-d-industrie-souveraine-circulaire-et-innovante/2026/05/07/8461
BEGIN:VALARM
TRIGGER:-P0DT1H0M0S
ACTION:DISPLAY
END:VALARM
END:VEVENT
END:VCALENDAR