BEGIN:VCALENDAR
VERSION:2.0
PRODID:-//hacksw/handcal//NONSGML v1.0//EN
BEGIN:VEVENT
DTSTART:20260422T103000Z
DTEND:20260422T120000Z
LOCATION:https://us06web.zoom.us/j/85755475877?pwd=vKdRlhC7UYYBAKbvBkbBnJ5OZUCyuN.1
ORGANIZER;CN=ESSEC Alumni:MAILTO:alumni-contact@essec.edu
SUMMARY:Webinaire : Transitions professionnelles : nos 10 conseils d’expertes pour pivoter sereinement en 2026
DESCRIPTION:Transitions professionnelles : nos 10 conseils d’expertes pour pivoter sereinement en 2026 Joëlle & Roxane vont vous expliquer en détail les étapes clés réussir sa reconversion professionnelle. C’est ...
URL:https://www.essecalumni.com/fr/event/webinaire-transitions-professionnelles-nos-10-conseils-d-expertes-pour-pivoter-sereinement-en-2026/2026/04/22/8465
BEGIN:VALARM
TRIGGER:-P0DT1H0M0S
ACTION:DISPLAY
END:VALARM
END:VEVENT
END:VCALENDAR