BEGIN:VCALENDAR
VERSION:2.0
PRODID:-//hacksw/handcal//NONSGML v1.0//EN
BEGIN:VEVENT
DTSTART:20260423T103000Z
DTEND:20260423T120000Z
LOCATION:https://us06web.zoom.us/j/83220869119?pwd=2xV1vheVah5ApsFJo3tjvNWjjNv89J.1
ORGANIZER;CN=ESSEC Alumni:MAILTO:alumni-contact@essec.edu
SUMMARY:Webinaire : Transitions professionnelles : comment surmonter la peur de l’insécurité financière ?
DESCRIPTION:Transitions professionnelles : comment surmonter la peur de l’insécurité financière ?\nLa peur de l’insécurité financière est l’angoisse #1 quand on pense à une reconversion professionnelle. Et cette ...
URL:https://www.essecalumni.com/fr/event/webinaire-transitions-professionnelles-comment-surmonter-la-peur-de-l-insecurite-financiere/2026/04/23/8467
BEGIN:VALARM
TRIGGER:-P0DT1H0M0S
ACTION:DISPLAY
END:VALARM
END:VEVENT
END:VCALENDAR