BEGIN:VCALENDAR
VERSION:2.0
PRODID:-//hacksw/handcal//NONSGML v1.0//EN
BEGIN:VEVENT
DTSTART:20260429T170000Z
DTEND:20260429T200000Z
LOCATION:Hotel des Grands Voyageurs \n92, Rue de Vaugirard \n75006 PARIS
ORGANIZER;CN=Monika MOSER - MSc in Hospitality Management (IMHI):MAILTO:monikamoser@me.com
SUMMARY:IMHI April Paris Get Together
DESCRIPTION:\nDear IMHI,\nJoin us on Wednesday, April 29, 2026From  7:00 PM Hôtel des Grands Voyageurs, 92 Rue de Vaugirard, 75006 Paris\nThank you to Maxime Letessier (IMHI 2019) for hosting us!A few details to ...
URL:https://www.essecalumni.com/fr/group/msc-in-hospitality-management-imhi/263/calendar/imhi-april-paris-get-together/2026/04/29/8473
BEGIN:VALARM
TRIGGER:-P0DT1H0M0S
ACTION:DISPLAY
END:VALARM
END:VEVENT
END:VCALENDAR