BEGIN:VCALENDAR
VERSION:2.0
PRODID:-//hacksw/handcal//NONSGML v1.0//EN
BEGIN:VEVENT
DTSTART:20260512T120000Z
DTEND:20260512T150000Z
LOCATION:Alliance Française Amphitheatre, Bangkok \n179 Witthayu Rd, Lumphini, Pathum Wan \n10330 Bangkok
ORGANIZER;CN=Florence Zheng - Thailand / Thaïlande:MAILTO:florence.zheng@essec.edu
SUMMARY:Conference on Leadership with Blaise Agresti
DESCRIPTION:🏔️ SAVE THE DATE: Leadership at the Summit 🏔️French Grandes Écoles is proud to invite you to an exclusive evening with Blaise Agresti, world-renowned expert in Mountain Rescue and Crisis...
URL:https://www.essecalumni.com/fr/group/thailand-thailande/136/calendar/conference-on-leadership-with-blaise-agresti/2026/05/12/8485
BEGIN:VALARM
TRIGGER:-P0DT1H0M0S
ACTION:DISPLAY
END:VALARM
END:VEVENT
END:VCALENDAR