BEGIN:VCALENDAR
VERSION:2.0
PRODID:-//hacksw/handcal//NONSGML v1.0//EN
BEGIN:VEVENT
DTSTART:20260603T170000Z
DTEND:20260603T200000Z
LOCATION:Maison des ESSEC \n11, Avenue de Friedland \n75008 PARIS
ORGANIZER;CN=Victoria Sasson - Défense & sécurité économique:MAILTO:victoria.sasson@essec.edu
SUMMARY:La guerre du futur est-elle déjà là ? Du front ukrainien aux scénarios de demain
DESCRIPTION:Cher(e)s membres, Le Club ESSEC Alumni Défense  est heureux de vous convier à une table ronde exceptionnelle le Mercredi 3 juin de 19h à 22h.La guerre du futur est-elle déjà là ? Du front ukrainien...
URL:https://www.essecalumni.com/fr/group/defense-securite-economique/55/calendar/la-guerre-du-futur-est-elle-deja-la-du-front-ukrainien-aux-scenarios-de-demain/2026/06/03/8493
BEGIN:VALARM
TRIGGER:-P0DT1H0M0S
ACTION:DISPLAY
END:VALARM
END:VEVENT
END:VCALENDAR