BEGIN:VCALENDAR
VERSION:2.0
PRODID:-//hacksw/handcal//NONSGML v1.0//EN
BEGIN:VEVENT
DTSTART:20260605T090000Z
DTEND:20260605T210000Z
LOCATION:Golf de Bonmont -  \n31, Route de Bonmont \n1275 CHESEREX
ORGANIZER;CN=Florence Zheng - Switzerland / Suisse:MAILTO:florence.zheng@essec.edu
SUMMARY:Open Golf & Multisports : La XVIème édition vous attend !
DESCRIPTION:Cher alumni,Ne manquez pas notre grand rendez-vous annuel sous le signe de la détente et de la performance. Cette seizième édition de l'Open Golf & Multisports est l'occasion parfaite de se retrouver ...
URL:https://www.essecalumni.com/fr/group/switzerland-suisse/147/calendar/open-golf-multisports-la-xvieme-edition-vous-attend/2026/06/05/8494
BEGIN:VALARM
TRIGGER:-P0DT1H0M0S
ACTION:DISPLAY
END:VALARM
END:VEVENT
END:VCALENDAR