BEGIN:VCALENDAR
VERSION:2.0
PRODID:-//hacksw/handcal//NONSGML v1.0//EN
BEGIN:VEVENT
DTSTART:20260423T160000Z
DTEND:20260423T170000Z
LOCATION:Fondation Bullukian  \n26, Place Bellecour \n69002 LYON
ORGANIZER;CN=Mathilde Failler - Auvergne Rhône-Alpes:MAILTO:mathilde.failler@essec.edu
SUMMARY:Soirée à la Fondation Bullukian
DESCRIPTION:Soirée à la Fondation Bullukian — visite commentée de l’exposition : Le Mur invisible de Sarah JérômeIl y a des soirées où l'on repart avec quelque chose en plus : une image qui reste, une question...
URL:https://www.essecalumni.com/fr/group/auvergne-rhone-alpes/91/calendar/soiree-a-la-fondation-bullukian/2026/04/23/8498
BEGIN:VALARM
TRIGGER:-P0DT1H0M0S
ACTION:DISPLAY
END:VALARM
END:VEVENT
END:VCALENDAR