BEGIN:VCALENDAR
VERSION:2.0
PRODID:-//hacksw/handcal//NONSGML v1.0//EN
BEGIN:VEVENT
DTSTART:20260504T080000Z
DTEND:20260504T100000Z
LOCATION:GENNEVILLIERS \n4, Avenue des Louvresses \n92230 GENNEVILLIERS
ORGANIZER;CN=Victoria Sasson - Industrie:MAILTO:victoria.sasson@essec.edu
SUMMARY:Visite de Thales  SIX CTS
DESCRIPTION:Chers membres,Le Club ESSEC Alumni Industrie vous propose une visite exclusive des installations de Thales SIX CTS à Gennevilliers, acteur majeur des technologies de défense et de sécurité,  le lundi ...
URL:https://www.essecalumni.com/fr/group/industrie/394/calendar/visite-de-thales-six-cts/2026/05/04/8502
BEGIN:VALARM
TRIGGER:-P0DT1H0M0S
ACTION:DISPLAY
END:VALARM
END:VEVENT
END:VCALENDAR