BEGIN:VCALENDAR
VERSION:2.0
PRODID:-//hacksw/handcal//NONSGML v1.0//EN
BEGIN:VEVENT
DTSTART:20260501T170000Z
DTEND:20260501T200000Z
LOCATION:Hôtel Aston La Scala \n12, Avenue Félix Faure \n06000 NICE
ORGANIZER;CN=Victoria Sasson - Côte d'Azur - Monaco:MAILTO:victoria.sasson@essec.edu
SUMMARY:Networking en présence de Rami Baitiéh ~ Le Club ESSEC Alumni Côte d'Azur - Monaco
DESCRIPTION:Chers amis,Le Club ESSEC Alumni Côte d'Azur - Monaco en partenariat avec le CLIF (Collectif Liban France), a le plaisir de vous inviter à une soirée networking exceptionnelle, en présence de notre...
URL:https://www.essecalumni.com/fr/group/cote-d-azur-monaco/76/calendar/networking-en-presence-de-rami-baitieh-le-club-essec-alumni-cote-d-azur-monaco/2026/05/01/8506
BEGIN:VALARM
TRIGGER:-P0DT1H0M0S
ACTION:DISPLAY
END:VALARM
END:VEVENT
END:VCALENDAR