BEGIN:VCALENDAR
VERSION:2.0
PRODID:-//hacksw/handcal//NONSGML v1.0//EN
BEGIN:VEVENT
DTSTART:20260506T163000Z
DTEND:20260506T193000Z
LOCATION:La Rincette \nEsplanade des Cantons \n1007 LAUSANNE
ORGANIZER;CN=Florence Zheng - Switzerland / Suisse:MAILTO:florence.zheng@essec.edu
SUMMARY:Afterwork Inter-Ecoles - Lausanne (Mai)
DESCRIPTION:Bonjour à tous ! ☀️\nLes beaux jours sont là et le comité des fêtes en profite pour vous proposer un classique qu'on adore : l'apéro les pieds dans l’eau ! A vos agendas : 📍 La Rincette – au bord du...
URL:https://www.essecalumni.com/fr/group/switzerland-suisse/147/calendar/afterwork-inter-ecoles-lausanne-mai/2026/05/06/8511
BEGIN:VALARM
TRIGGER:-P0DT1H0M0S
ACTION:DISPLAY
END:VALARM
END:VEVENT
END:VCALENDAR