BEGIN:VCALENDAR
VERSION:2.0
PRODID:-//hacksw/handcal//NONSGML v1.0//EN
BEGIN:VEVENT
DTSTART:20260519T013000Z
DTEND:20260519T040000Z
LOCATION:Culver City
ORGANIZER;CN=Maria DRISSI HABTI - The USA / Etats-Unis d'Amérique - Los Angeles:MAILTO:maria.drissihabti@essec.edu
SUMMARY:ESSEC Alumni Networking Evening with Marie-Pierre Schickel
DESCRIPTION:Join us for a special ESSEC Alumni evening in Los Angeles, on the occasion of a visit from Marie-Pierre Schickel (E95), Managing Director of ESSEC Alumni.\nThis gathering is a unique opportunity to...
URL:https://www.essecalumni.com/fr/group/the-usa-etats-unis-d-amerique-los-angeles/190/calendar/essec-alumni-networking-evening-with-marie-pierre-schickel/2026/05/19/8513
BEGIN:VALARM
TRIGGER:-P0DT1H0M0S
ACTION:DISPLAY
END:VALARM
END:VEVENT
END:VCALENDAR