BEGIN:VCALENDAR
VERSION:2.0
PRODID:-//hacksw/handcal//NONSGML v1.0//EN
BEGIN:VEVENT
DTSTART:20260429T020000Z
DTEND:20260429T030000Z
LOCATION:Alchemist Bar & Lounge \n679 3rd St \n94107 San Francisco
ORGANIZER;CN=Maria DRISSI HABTI - The USA / Etats-Unis d'Amérique - San Francisco:MAILTO:maria.drissihabti@essec.edu
SUMMARY:Afterwork with the ESSEC-CentraleSupélec MSc Entrepreneurs program
DESCRIPTION:Dear Alumni,\nAs part of its annual study trip to the Bay Area, the ESSEC-CentraleSupélec MSc Entrepreneurs program is organizing an afterwork for the ESSEC and CentraleSupélec community on Tuesday,...
URL:https://www.essecalumni.com/fr/group/the-usa-etats-unis-d-amerique-san-francisco/344/calendar/afterwork-with-the-essec-centralesupelec-msc-entrepreneurs-program/2026/04/29/8516
BEGIN:VALARM
TRIGGER:-P0DT1H0M0S
ACTION:DISPLAY
END:VALARM
END:VEVENT
END:VCALENDAR